Name | Last modified | Size | Description | |
---|---|---|---|---|
Parent Directory | - | |||
install-summary.dcf | 13-Apr-2023 00:05 | 258 | ||
install-out.txt | 13-Apr-2023 00:05 | 2.5K | ||
checksrc-summary.dcf | 13-Apr-2023 00:05 | 412 | ||
checksrc-out.txt | 13-Apr-2023 00:05 | 4.3K | ||
buildsrc-summary.dcf | 13-Apr-2023 00:05 | 416 | ||
buildsrc-out.txt | 13-Apr-2023 00:05 | 898 | ||