Name | Last modified | Size | Description | |
---|---|---|---|---|
Parent Directory | - | |||
buildbin-out.txt | 13-Apr-2023 00:06 | 3.0K | ||
buildbin-summary.dcf | 13-Apr-2023 00:06 | 527 | ||
buildsrc-out.txt | 13-Apr-2023 00:06 | 908 | ||
buildsrc-summary.dcf | 13-Apr-2023 00:06 | 426 | ||
checksrc-out.txt | 13-Apr-2023 00:06 | 4.2K | ||
checksrc-summary.dcf | 13-Apr-2023 00:06 | 442 | ||
install-out.txt | 13-Apr-2023 00:06 | 2.2K | ||
install-summary.dcf | 13-Apr-2023 00:06 | 268 | ||