Name | Last modified | Size | Description | |
---|---|---|---|---|
Parent Directory | - | |||
install-summary.dcf | 13-Apr-2023 00:05 | 257 | ||
buildsrc-summary.dcf | 13-Apr-2023 00:05 | 332 | ||
checksrc-summary.dcf | 12-Jun-2022 00:05 | 426 | ||
buildsrc-out.txt | 13-Apr-2023 00:05 | 1.0K | ||
install-out.txt | 13-Apr-2023 00:05 | 1.7K | ||
checksrc-out.txt | 12-Jun-2022 00:05 | 4.0K | ||