Index of /checkResults/3.16/bioc-LATEST/proFIA/raw-results
Name
Last modified
Size
Description
Parent Directory
-
info.dcf
21-Mar-2023 00:06
282
kjohnson/
12-Jul-2022 00:06
-
lconway/
21-Mar-2023 00:06
-
nebbiolo2/
21-Mar-2023 00:05
-
palomino4/
21-Mar-2023 00:05
-