Name | Last modified | Size | Description | |
---|---|---|---|---|
Parent Directory | - | |||
install-out.txt | 13-Apr-2023 00:05 | 4.6K | ||
install-summary.dcf | 13-Apr-2023 00:05 | 272 | ||
buildsrc-out.txt | 13-Apr-2023 00:05 | 941 | ||
buildsrc-summary.dcf | 13-Apr-2023 00:05 | 460 | ||
checksrc-out.txt | 13-Apr-2023 00:05 | 5.5K | ||
checksrc-summary.dcf | 13-Apr-2023 00:05 | 454 | ||
buildbin-out.txt | 13-Apr-2023 00:05 | 4.8K | ||
buildbin-summary.dcf | 13-Apr-2023 00:05 | 527 | ||