Index of /checkResults/3.16/bioc-LATEST/chromVAR/raw-results/kjohnson
Name
Last modified
Size
Description
Parent Directory
-
buildsrc-out.txt
08-Jul-2022 00:10
931
buildsrc-summary.dcf
08-Jul-2022 00:10
344
install-out.txt
12-Jul-2022 00:06
717
install-summary.dcf
12-Jul-2022 00:06
273