Index of /checkResults/3.16/bioc-LATEST/annotate/raw-results

[ICO]NameLast modifiedSizeDescription

[DIR]Parent Directory  -  
[   ]info.dcf18-Mar-2023 00:06 299  
[DIR]kjohnson/12-Jul-2022 00:06 -  
[DIR]lconway/18-Mar-2023 00:06 -  
[DIR]nebbiolo2/18-Mar-2023 00:05 -  
[DIR]palomino4/18-Mar-2023 00:05 -