![]() | Name | Last modified | Size | Description |
---|---|---|---|---|
![]() | Parent Directory | - | ||
![]() | install-summary.dcf | 12-Jul-2022 00:06 | 277 | |
![]() | buildsrc-summary.dcf | 08-Jul-2022 00:11 | 439 | |
![]() | buildbin-summary.dcf | 08-Jul-2022 00:11 | 554 | |
![]() | buildsrc-out.txt | 08-Jul-2022 00:11 | 832 | |
![]() | install-out.txt | 12-Jul-2022 00:06 | 1.0K | |
![]() | buildbin-out.txt | 08-Jul-2022 00:11 | 1.2K | |