Index of /checkResults/3.16/bioc-LATEST/SeqVarTools/raw-results
Name
Last modified
Size
Description
Parent Directory
-
info.dcf
25-Mar-2023 00:06
283
kjohnson/
12-Jul-2022 00:06
-
lconway/
25-Mar-2023 00:06
-
nebbiolo2/
25-Mar-2023 00:05
-
palomino4/
25-Mar-2023 00:06
-