Name | Last modified | Size | Description | |
---|---|---|---|---|
Parent Directory | - | |||
buildsrc-out.txt | 13-Apr-2023 00:05 | 876 | ||
buildsrc-summary.dcf | 13-Apr-2023 00:05 | 447 | ||
checksrc-out.txt | 13-Apr-2023 00:05 | 4.8K | ||
checksrc-summary.dcf | 13-Apr-2023 00:05 | 454 | ||
install-out.txt | 13-Apr-2023 00:05 | 5.7K | ||
install-summary.dcf | 13-Apr-2023 00:05 | 279 | ||