Index of /checkResults/3.16/bioc-LATEST/AnnotationDbi/raw-results/kjohnson
Name
Last modified
Size
Description
Parent Directory
-
install-out.txt
12-Jul-2022 00:06
1.5K
install-summary.dcf
12-Jul-2022 00:06
281
buildsrc-out.txt
12-Jul-2022 00:06
1.2K
buildsrc-summary.dcf
12-Jul-2022 00:06
355