Back to Build/check report for BioC 3.15 experimental data
ABCDEFGHIJKLMNOPQRS[T]UVWXYZ

This page was generated on 2022-06-30 14:50:10 -0400 (Thu, 30 Jun 2022).

HostnameOSArch (*)R versionInstalled pkgs
nebbiolo1Linux (Ubuntu 20.04.4 LTS)x86_644.2.0 (2022-04-22) -- "Vigorous Calisthenics" 4380
Click on any hostname to see more info about the system (e.g. compilers)      (*) as reported by 'uname -p', except on Windows and Mac OS X

INSTALL results for tuberculosis on nebbiolo1


To the developers/maintainers of the tuberculosis package:
Make sure to use the following settings in order to reproduce any error or warning you see on this page.

raw results

Package 395/410HostnameOS / ArchINSTALLBUILDCHECK
tuberculosis 1.2.0  (landing page)
Lucas Schiffer
Snapshot Date: 2022-06-30 07:30:02 -0400 (Thu, 30 Jun 2022)
git_url: https://git.bioconductor.org/packages/tuberculosis
git_branch: RELEASE_3_15
git_last_commit: 438d449
git_last_commit_date: 2022-04-26 13:37:01 -0400 (Tue, 26 Apr 2022)
nebbiolo1Linux (Ubuntu 20.04.4 LTS) / x86_64  OK    OK    OK  UNNEEDED, same version is already published

Summary

Package: tuberculosis
Version: 1.2.0
Command: /home/biocbuild/bbs-3.15-bioc/R/bin/R CMD INSTALL tuberculosis
StartedAt: 2022-06-30 10:03:38 -0400 (Thu, 30 Jun 2022)
EndedAt: 2022-06-30 10:03:58 -0400 (Thu, 30 Jun 2022)
EllapsedTime: 20.1 seconds
RetCode: 0
Status:   OK  

Command output

##############################################################################
##############################################################################
###
### Running command:
###
###   /home/biocbuild/bbs-3.15-bioc/R/bin/R CMD INSTALL tuberculosis
###
##############################################################################
##############################################################################


* installing to library ‘/home/biocbuild/bbs-3.15-bioc/R/library’
* installing *source* package ‘tuberculosis’ ...
** using staged installation
** R
** inst
** byte-compile and prepare package for lazy loading
** help
*** installing help indices
*** copying figures
** building package indices
** installing vignettes
** testing if installed package can be loaded from temporary location
** testing if installed package can be loaded from final location
** testing if installed package keeps a record of temporary installation path
* DONE (tuberculosis)