Back to Build/check report for BioC 3.15 experimental data
ABC[D]EFGHIJKLMNOPQRSTUVWXYZ

This page was generated on 2022-06-30 14:50:08 -0400 (Thu, 30 Jun 2022).

HostnameOSArch (*)R versionInstalled pkgs
nebbiolo1Linux (Ubuntu 20.04.4 LTS)x86_644.2.0 (2022-04-22) -- "Vigorous Calisthenics" 4380
Click on any hostname to see more info about the system (e.g. compilers)      (*) as reported by 'uname -p', except on Windows and Mac OS X

INSTALL results for dorothea on nebbiolo1


To the developers/maintainers of the dorothea package:
Make sure to use the following settings in order to reproduce any error or warning you see on this page.

raw results

Package 98/410HostnameOS / ArchINSTALLBUILDCHECK
dorothea 1.8.0  (landing page)
Daniel Dimitrov
Snapshot Date: 2022-06-30 07:30:02 -0400 (Thu, 30 Jun 2022)
git_url: https://git.bioconductor.org/packages/dorothea
git_branch: RELEASE_3_15
git_last_commit: 12dd3d0
git_last_commit_date: 2022-04-26 13:33:55 -0400 (Tue, 26 Apr 2022)
nebbiolo1Linux (Ubuntu 20.04.4 LTS) / x86_64  OK    OK    OK  UNNEEDED, same version is already published

Summary

Package: dorothea
Version: 1.8.0
Command: /home/biocbuild/bbs-3.15-bioc/R/bin/R CMD INSTALL dorothea
StartedAt: 2022-06-30 10:03:32 -0400 (Thu, 30 Jun 2022)
EndedAt: 2022-06-30 10:04:06 -0400 (Thu, 30 Jun 2022)
EllapsedTime: 34.0 seconds
RetCode: 0
Status:   OK  

Command output

##############################################################################
##############################################################################
###
### Running command:
###
###   /home/biocbuild/bbs-3.15-bioc/R/bin/R CMD INSTALL dorothea
###
##############################################################################
##############################################################################


* installing to library ‘/home/biocbuild/bbs-3.15-bioc/R/library’
* installing *source* package ‘dorothea’ ...
** using staged installation
** R
** data
*** moving datasets to lazyload DB
** inst
** byte-compile and prepare package for lazy loading
** help
*** installing help indices
*** copying figures
** building package indices
** installing vignettes
** testing if installed package can be loaded from temporary location
** testing if installed package can be loaded from final location
** testing if installed package keeps a record of temporary installation path
* DONE (dorothea)