Index of /checkResults/3.15/data-experiment-LATEST/breastCancerVDX/raw-results

[ICO]NameLast modifiedSizeDescription

[DIR]Parent Directory  -  
[   ]info.dcf05-Aug-2022 03:50 348  
[DIR]nebbiolo1/05-Aug-2022 03:50 -  
[DIR]nebbiolo2/17-Feb-2022 22:36 -