Index of /checkResults/3.15/data-experiment-LATEST/breastCancerVDX/raw-results/nebbiolo1

[ICO]NameLast modifiedSizeDescription

[DIR]Parent Directory  -  
[TXT]buildsrc-out.txt05-Aug-2022 03:50 936  
[   ]buildsrc-summary.dcf05-Aug-2022 03:50 440  
[TXT]checksrc-out.txt05-Aug-2022 03:50 2.9K 
[   ]checksrc-summary.dcf05-Aug-2022 03:50 461  
[TXT]install-out.txt05-Aug-2022 03:50 889  
[   ]install-summary.dcf05-Aug-2022 03:50 274