Index of /checkResults/3.15/data-experiment-LATEST/SpikeInSubset/raw-results/nebbiolo1

[ICO]NameLast modifiedSizeDescription

[DIR]Parent Directory  -  
[TXT]buildsrc-out.txt05-Aug-2022 03:50 821  
[   ]buildsrc-summary.dcf05-Aug-2022 03:50 434  
[TXT]checksrc-out.txt05-Aug-2022 03:50 4.0K 
[   ]checksrc-summary.dcf05-Aug-2022 03:50 453  
[TXT]install-out.txt05-Aug-2022 03:50 1.0K 
[   ]install-summary.dcf05-Aug-2022 03:50 270