![]() | Name | Last modified | Size | Description |
---|---|---|---|---|
![]() | Parent Directory | - | ||
![]() | install-summary.dcf | 19-Oct-2022 03:50 | 270 | |
![]() | buildsrc-summary.dcf | 19-Oct-2022 03:50 | 434 | |
![]() | checksrc-summary.dcf | 19-Oct-2022 03:50 | 453 | |
![]() | buildsrc-out.txt | 19-Oct-2022 03:50 | 821 | |
![]() | install-out.txt | 19-Oct-2022 03:50 | 1.0K | |
![]() | checksrc-out.txt | 19-Oct-2022 03:50 | 4.0K | |