Back to Build/check report for BioC 3.15 experimental data
ABCDEFGHIJKLMNO[P]QRSTUVWXYZ

This page was generated on 2022-05-12 14:50:04 -0400 (Thu, 12 May 2022).

HostnameOSArch (*)R versionInstalled pkgs
nebbiolo1Linux (Ubuntu 20.04.4 LTS)x86_644.2.0 (2022-04-22) -- "Vigorous Calisthenics" 4343
Click on any hostname to see more info about the system (e.g. compilers)      (*) as reported by 'uname -p', except on Windows and Mac OS X

All results for package ProData


To the developers/maintainers of the ProData package:
Make sure to use the following settings in order to reproduce any error or warning you see on this page.

raw results

Package 283/410HostnameOS / ArchINSTALLBUILDCHECK
ProData 1.34.0  (landing page)
Xiaochun Li
Snapshot Date: 2022-05-12 07:30:02 -0400 (Thu, 12 May 2022)
git_url: https://git.bioconductor.org/packages/ProData
git_branch: RELEASE_3_15
git_last_commit: a6298ab
git_last_commit_date: 2022-04-26 12:56:12 -0400 (Tue, 26 Apr 2022)
nebbiolo1Linux (Ubuntu 20.04.4 LTS) / x86_64  OK    OK    OK  UNNEEDED, same version is already published