Index of /checkResults/3.15/data-experiment-LATEST/MSstatsBioData/raw-results/nebbiolo2
Name
Last modified
Size
Description
Parent Directory
-
buildsrc-out.txt
17-Feb-2022 22:36
1.3K
buildsrc-summary.dcf
17-Feb-2022 22:36
357
install-out.txt
17-Feb-2022 22:36
1.2K
install-summary.dcf
17-Feb-2022 22:36
283