Name | Last modified | Size | Description | |
---|---|---|---|---|
Parent Directory | - | |||
buildsrc-summary.dcf | 20-Oct-2022 02:20 | 336 | ||
buildsrc-out.txt | 20-Oct-2022 02:20 | 1.2K | ||
install-summary.dcf | 20-Oct-2022 02:20 | 262 | ||
install-out.txt | 20-Oct-2022 02:20 | 821 | ||
checksrc-summary.dcf | 25-Aug-2022 02:44 | 430 | ||
checksrc-out.txt | 25-Aug-2022 02:44 | 3.8K | ||