Name | Last modified | Size | Description | |
---|---|---|---|---|
Parent Directory | - | |||
buildbin-out.txt | 19-Mar-2022 00:08 | 5.5K | ||
buildbin-summary.dcf | 19-Mar-2022 00:08 | 500 | ||
buildsrc-out.txt | 19-Mar-2022 00:08 | 860 | ||
buildsrc-summary.dcf | 19-Mar-2022 00:08 | 443 | ||
checksrc-out.txt | 19-Mar-2022 00:08 | 4.7K | ||
checksrc-summary.dcf | 19-Mar-2022 00:08 | 437 | ||
install-out.txt | 19-Mar-2022 00:08 | 5.5K | ||
install-summary.dcf | 19-Mar-2022 00:08 | 263 | ||