Name | Last modified | Size | Description | |
---|---|---|---|---|
Parent Directory | - | |||
checksrc-out.txt | 18-Mar-2022 00:08 | 14K | ||
checksrc-summary.dcf | 18-Mar-2022 00:08 | 479 | ||
buildbin-out.txt | 18-Mar-2022 00:08 | 3.7K | ||
buildbin-summary.dcf | 18-Mar-2022 00:08 | 554 | ||
install-summary.dcf | 19-Mar-2022 00:08 | 284 | ||
install-out.txt | 19-Mar-2022 00:08 | 857 | ||
buildsrc-out.txt | 19-Mar-2022 00:08 | 1.1K | ||
buildsrc-summary.dcf | 19-Mar-2022 00:08 | 388 | ||