Name | Last modified | Size | Description | |
---|---|---|---|---|
Parent Directory | - | |||
buildbin-summary.dcf | 19-Mar-2022 00:08 | 498 | ||
buildbin-out.txt | 19-Mar-2022 00:08 | 2.3K | ||
checksrc-summary.dcf | 19-Mar-2022 00:08 | 435 | ||
checksrc-out.txt | 19-Mar-2022 00:08 | 3.0K | ||
buildsrc-summary.dcf | 19-Mar-2022 00:08 | 441 | ||
buildsrc-out.txt | 19-Mar-2022 00:08 | 824 | ||
install-summary.dcf | 19-Mar-2022 00:08 | 262 | ||
install-out.txt | 19-Mar-2022 00:08 | 2.2K | ||