Index of /checkResults/3.15/bioc-LATEST/rfPred/raw-results/riesling1
Name
Last modified
Size
Description
Parent Directory
-
buildsrc-out.txt
19-Mar-2022 00:08
2.8K
buildsrc-summary.dcf
19-Mar-2022 00:08
365
install-out.txt
19-Mar-2022 00:08
1.8K
install-summary.dcf
19-Mar-2022 00:08
266