Name | Last modified | Size | Description | |
---|---|---|---|---|
Parent Directory | - | |||
buildsrc-out.txt | 20-Oct-2022 02:20 | 1.4K | ||
buildsrc-summary.dcf | 20-Oct-2022 02:20 | 337 | ||
checksrc-out.txt | 07-Jan-2022 01:04 | 5.6K | ||
checksrc-summary.dcf | 07-Jan-2022 01:04 | 437 | ||
install-out.txt | 20-Oct-2022 02:20 | 2.6K | ||
install-summary.dcf | 20-Oct-2022 02:20 | 263 | ||