Index of /checkResults/3.15/bioc-LATEST/epialleleR/raw-results/nebbiolo1

[ICO]NameLast modifiedSizeDescription

[DIR]Parent Directory  -  
[TXT]buildsrc-out.txt11-Aug-2022 04:39 847  
[   ]buildsrc-summary.dcf11-Aug-2022 04:39 425  
[TXT]checksrc-out.txt11-Aug-2022 04:39 7.3K 
[   ]checksrc-summary.dcf11-Aug-2022 04:39 440  
[TXT]install-out.txt11-Aug-2022 04:39 50K 
[   ]install-summary.dcf11-Aug-2022 04:39 264