Name | Last modified | Size | Description | |
---|---|---|---|---|
Parent Directory | - | |||
install-out.txt | 20-Oct-2022 02:20 | 50K | ||
install-summary.dcf | 20-Oct-2022 02:20 | 264 | ||
buildsrc-out.txt | 20-Oct-2022 02:20 | 847 | ||
buildsrc-summary.dcf | 20-Oct-2022 02:20 | 425 | ||
checksrc-out.txt | 20-Oct-2022 02:20 | 7.3K | ||
checksrc-summary.dcf | 20-Oct-2022 02:20 | 440 | ||