![]() | Name | Last modified | Size | Description |
---|---|---|---|---|
![]() | Parent Directory | - | ||
![]() | install-summary.dcf | 19-Mar-2022 00:07 | 284 | |
![]() | checksrc-summary.dcf | 19-Mar-2022 00:07 | 479 | |
![]() | buildsrc-summary.dcf | 19-Mar-2022 00:07 | 485 | |
![]() | buildbin-summary.dcf | 19-Mar-2022 00:07 | 562 | |
![]() | buildsrc-out.txt | 19-Mar-2022 00:07 | 879 | |
![]() | checksrc-out.txt | 19-Mar-2022 00:07 | 3.3K | |
![]() | install-out.txt | 19-Mar-2022 00:07 | 4.5K | |
![]() | buildbin-out.txt | 19-Mar-2022 00:07 | 4.6K | |