Name | Last modified | Size | Description | |
---|---|---|---|---|
Parent Directory | - | |||
install-out.txt | 20-Oct-2022 02:23 | 1.0K | ||
install-summary.dcf | 20-Oct-2022 02:23 | 275 | ||
buildsrc-out.txt | 20-Oct-2022 02:23 | 1.1K | ||
buildsrc-summary.dcf | 20-Oct-2022 02:23 | 436 | ||
checksrc-out.txt | 20-Oct-2022 02:23 | 3.3K | ||
checksrc-summary.dcf | 20-Oct-2022 02:23 | 457 | ||
buildbin-out.txt | 20-Oct-2022 02:23 | 1.2K | ||
buildbin-summary.dcf | 20-Oct-2022 02:23 | 550 | ||