Index of /checkResults/3.15/bioc-LATEST/TreeAndLeaf/raw-results
Name
Last modified
Size
Description
Parent Directory
-
info.dcf
19-May-2022 01:09
286
merida1/
19-May-2022 01:09
-
nebbiolo1/
19-May-2022 01:06
-
palomino3/
19-May-2022 01:07
-
riesling1/
19-Mar-2022 00:08
-