Name | Last modified | Size | Description | |
---|---|---|---|---|
Parent Directory | - | |||
buildbin-summary.dcf | 19-Mar-2022 00:08 | 593 | ||
buildbin-out.txt | 19-Mar-2022 00:08 | 2.1K | ||
checksrc-summary.dcf | 19-Mar-2022 00:08 | 499 | ||
checksrc-out.txt | 19-Mar-2022 00:08 | 3.5K | ||
buildsrc-summary.dcf | 19-Mar-2022 00:08 | 505 | ||
buildsrc-out.txt | 19-Mar-2022 00:08 | 904 | ||
install-summary.dcf | 19-Mar-2022 00:08 | 295 | ||
install-out.txt | 19-Mar-2022 00:08 | 2.0K | ||