Index of /checkResults/3.15/bioc-LATEST/MIRA/raw-results/nebbiolo1

[ICO]NameLast modifiedSizeDescription

[DIR]Parent Directory  -  
[TXT]buildsrc-out.txt02-Jul-2022 01:05 857  
[   ]buildsrc-summary.dcf02-Jul-2022 01:05 407  
[TXT]checksrc-out.txt02-Jul-2022 01:05 3.1K 
[   ]checksrc-summary.dcf02-Jul-2022 01:05 412  
[TXT]install-out.txt02-Jul-2022 01:05 946  
[   ]install-summary.dcf02-Jul-2022 01:05 253