Index of /checkResults/3.15/bioc-LATEST/MIRA/raw-results/nebbiolo1

[ICO]NameLast modifiedSizeDescription

[DIR]Parent Directory  -  
[TXT]buildsrc-out.txt13-Aug-2022 02:20 857  
[   ]buildsrc-summary.dcf13-Aug-2022 02:20 407  
[TXT]checksrc-out.txt13-Aug-2022 02:20 3.1K 
[   ]checksrc-summary.dcf13-Aug-2022 02:20 412  
[TXT]install-out.txt13-Aug-2022 02:20 946  
[   ]install-summary.dcf13-Aug-2022 02:20 253