Index of /checkResults/3.15/bioc-LATEST/HilbertVisGUI/raw-results

[ICO]NameLast modifiedSizeDescription

[DIR]Parent Directory  -  
[   ]info.dcf28-Jun-2022 00:09 280  
[DIR]nebbiolo1/28-Jun-2022 00:09 -