Index of /checkResults/3.15/bioc-LATEST/HilbertVisGUI/raw-results
Name
Last modified
Size
Description
Parent Directory
-
info.dcf
20-Oct-2022 02:20
280
nebbiolo1/
20-Oct-2022 02:20
-