Name | Last modified | Size | Description | |
---|---|---|---|---|
Parent Directory | - | |||
buildbin-out.txt | 20-Oct-2022 02:21 | 2.1K | ||
buildbin-summary.dcf | 20-Oct-2022 02:21 | 533 | ||
buildsrc-out.txt | 20-Oct-2022 02:21 | 886 | ||
buildsrc-summary.dcf | 20-Oct-2022 02:21 | 463 | ||
checksrc-out.txt | 20-Oct-2022 02:21 | 5.4K | ||
checksrc-summary.dcf | 20-Oct-2022 02:21 | 458 | ||
install-out.txt | 20-Oct-2022 02:21 | 1.9K | ||
install-summary.dcf | 20-Oct-2022 02:21 | 274 | ||