Name | Last modified | Size | Description | |
---|---|---|---|---|
Parent Directory | - | |||
buildbin-out.txt | 06-Jan-2022 01:06 | 3.0K | ||
buildbin-summary.dcf | 06-Jan-2022 01:06 | 509 | ||
buildsrc-out.txt | 19-Mar-2022 00:07 | 2.3K | ||
buildsrc-summary.dcf | 19-Mar-2022 00:07 | 365 | ||
checksrc-out.txt | 06-Jan-2022 01:06 | 3.4K | ||
checksrc-summary.dcf | 06-Jan-2022 01:06 | 443 | ||
install-out.txt | 19-Mar-2022 00:07 | 2.9K | ||
install-summary.dcf | 19-Mar-2022 00:07 | 266 | ||