Name | Last modified | Size | Description | |
---|---|---|---|---|
Parent Directory | - | |||
install-summary.dcf | 19-Mar-2022 00:07 | 266 | ||
install-out.txt | 19-Mar-2022 00:07 | 4.3K | ||
checksrc-summary.dcf | 19-Mar-2022 00:07 | 443 | ||
checksrc-out.txt | 19-Mar-2022 00:07 | 4.2K | ||
buildsrc-summary.dcf | 19-Mar-2022 00:07 | 449 | ||
buildsrc-out.txt | 19-Mar-2022 00:07 | 866 | ||
buildbin-summary.dcf | 19-Mar-2022 00:07 | 509 | ||
buildbin-out.txt | 19-Mar-2022 00:07 | 4.4K | ||