Name | Last modified | Size | Description | |
---|---|---|---|---|
Parent Directory | - | |||
buildbin-summary.dcf | 20-Oct-2022 02:21 | 507 | ||
buildbin-out.txt | 20-Oct-2022 02:21 | 2.2K | ||
checksrc-summary.dcf | 20-Oct-2022 02:21 | 443 | ||
checksrc-out.txt | 20-Oct-2022 02:21 | 4.1K | ||
buildsrc-summary.dcf | 20-Oct-2022 02:21 | 449 | ||
buildsrc-out.txt | 20-Oct-2022 02:21 | 866 | ||
install-summary.dcf | 20-Oct-2022 02:21 | 266 | ||
install-out.txt | 20-Oct-2022 02:21 | 2.0K | ||