Name | Last modified | Size | Description | |
---|---|---|---|---|
Parent Directory | - | |||
install-summary.dcf | 20-Oct-2022 02:20 | 257 | ||
install-out.txt | 20-Oct-2022 02:20 | 1.9K | ||
checksrc-summary.dcf | 20-Oct-2022 02:20 | 420 | ||
checksrc-out.txt | 20-Oct-2022 02:20 | 3.6K | ||
buildsrc-summary.dcf | 20-Oct-2022 02:20 | 415 | ||
buildsrc-out.txt | 20-Oct-2022 02:20 | 832 | ||