Name | Last modified | Size | Description | |
---|---|---|---|---|
Parent Directory | - | |||
install-summary.dcf | 20-Oct-2022 02:22 | 268 | ||
install-out.txt | 20-Oct-2022 02:22 | 2.4K | ||
checksrc-summary.dcf | 20-Oct-2022 02:22 | 440 | ||
checksrc-out.txt | 20-Oct-2022 02:22 | 3.7K | ||
buildsrc-summary.dcf | 20-Oct-2022 02:22 | 425 | ||
buildsrc-out.txt | 20-Oct-2022 02:22 | 842 | ||
buildbin-summary.dcf | 20-Oct-2022 02:22 | 525 | ||
buildbin-out.txt | 20-Oct-2022 02:22 | 3.6K | ||