Name | Last modified | Size | Description | |
---|---|---|---|---|
Parent Directory | - | |||
install-summary.dcf | 20-Oct-2022 02:20 | 254 | ||
install-out.txt | 20-Oct-2022 02:20 | 949 | ||
checksrc-summary.dcf | 20-Oct-2022 02:20 | 416 | ||
checksrc-out.txt | 20-Oct-2022 02:20 | 5.3K | ||
buildsrc-summary.dcf | 20-Oct-2022 02:20 | 411 | ||
buildsrc-out.txt | 20-Oct-2022 02:20 | 1.0K | ||