Index of /checkResults/3.15/bioc-LATEST/BiGGR/raw-results

[ICO]NameLast modifiedSizeDescription

[DIR]Parent Directory  -  
[   ]info.dcf25-Jun-2022 01:05 278  
[DIR]nebbiolo1/25-Jun-2022 01:04 -  
[DIR]palomino3/25-Jun-2022 01:05 -  
[DIR]riesling1/19-Mar-2022 00:07 -