Index of /checkResults/3.15/bioc-LATEST/BiGGR/raw-results

[ICO]NameLast modifiedSizeDescription

[DIR]Parent Directory  -  
[DIR]riesling1/19-Mar-2022 00:07 -  
[DIR]nebbiolo1/13-Aug-2022 02:19 -  
[   ]info.dcf13-Aug-2022 02:21 278  
[DIR]palomino3/13-Aug-2022 02:21 -