![]() | Name | Last modified | Size | Description |
---|---|---|---|---|
![]() | Parent Directory | - | ||
![]() | buildsrc-out.txt | 16-Aug-2022 02:19 | 1.0K | |
![]() | buildsrc-summary.dcf | 16-Aug-2022 02:19 | 411 | |
![]() | checksrc-out.txt | 16-Aug-2022 02:19 | 5.3K | |
![]() | checksrc-summary.dcf | 16-Aug-2022 02:19 | 416 | |
![]() | install-out.txt | 16-Aug-2022 02:19 | 949 | |
![]() | install-summary.dcf | 16-Aug-2022 02:19 | 254 | |