Back to Multiple platform build/check report for BioC 3.14
ABCDEFGHIJKLMNOPQRS[T]UVWXYZ

This page was generated on 2022-01-17 13:07:10 -0500 (Mon, 17 Jan 2022).

HostnameOSArch (*)R versionInstalled pkgs
nebbiolo2Linux (Ubuntu 20.04.4 LTS)x86_644.1.2 (2021-11-01) -- "Bird Hippie" 4328
tokay2Windows Server 2012 R2 Standardx644.1.2 (2021-11-01) -- "Bird Hippie" 4077
machv2macOS 10.14.6 Mojavex86_644.1.2 (2021-11-01) -- "Bird Hippie" 4138
Click on any hostname to see more info about the system (e.g. compilers)      (*) as reported by 'uname -p', except on Windows and Mac OS X

INSTALL results for transomics2cytoscape on tokay2


To the developers/maintainers of the transomics2cytoscape package:
- Please allow up to 24 hours (and sometimes 48 hours) for your latest push to git@git.bioconductor.org:packages/transomics2cytoscape.git to
reflect on this report. See How and When does the builder pull? When will my changes propagate? here for more information.
- Make sure to use the following settings in order to reproduce any error or warning you see on this page.

raw results

Package 1988/2083HostnameOS / ArchINSTALLBUILDCHECKBUILD BIN
transomics2cytoscape 1.4.0  (landing page)
Kozo Nishida
Snapshot Date: 2022-01-16 01:55:05 -0500 (Sun, 16 Jan 2022)
git_url: https://git.bioconductor.org/packages/transomics2cytoscape
git_branch: RELEASE_3_14
git_last_commit: 0112663
git_last_commit_date: 2021-10-26 13:01:29 -0500 (Tue, 26 Oct 2021)
nebbiolo2Linux (Ubuntu 20.04.4 LTS) / x86_64  OK    OK    OK  UNNEEDED, same version is already published
tokay2Windows Server 2012 R2 Standard / x64  OK    OK    OK    OK  UNNEEDED, same version is already published
machv2macOS 10.14.6 Mojave / x86_64  OK    OK    OK    OK  UNNEEDED, same version is already published

Summary

Package: transomics2cytoscape
Version: 1.4.0
Command: C:\cygwin\bin\curl.exe -O http://155.52.207.166/BBS/3.14/bioc/src/contrib/transomics2cytoscape_1.4.0.tar.gz && rm -rf transomics2cytoscape.buildbin-libdir && mkdir transomics2cytoscape.buildbin-libdir && C:\Users\biocbuild\bbs-3.14-bioc\R\bin\R.exe CMD INSTALL --merge-multiarch --build --library=transomics2cytoscape.buildbin-libdir transomics2cytoscape_1.4.0.tar.gz && C:\Users\biocbuild\bbs-3.14-bioc\R\bin\R.exe CMD INSTALL transomics2cytoscape_1.4.0.zip && rm transomics2cytoscape_1.4.0.tar.gz transomics2cytoscape_1.4.0.zip
StartedAt: 2022-01-16 05:33:05 -0500 (Sun, 16 Jan 2022)
EndedAt: 2022-01-16 05:33:49 -0500 (Sun, 16 Jan 2022)
EllapsedTime: 43.8 seconds
RetCode: 0
Status:   OK  

Command output

##############################################################################
##############################################################################
###
### Running command:
###
###   C:\cygwin\bin\curl.exe -O http://155.52.207.166/BBS/3.14/bioc/src/contrib/transomics2cytoscape_1.4.0.tar.gz && rm -rf transomics2cytoscape.buildbin-libdir && mkdir transomics2cytoscape.buildbin-libdir && C:\Users\biocbuild\bbs-3.14-bioc\R\bin\R.exe CMD INSTALL --merge-multiarch --build --library=transomics2cytoscape.buildbin-libdir transomics2cytoscape_1.4.0.tar.gz && C:\Users\biocbuild\bbs-3.14-bioc\R\bin\R.exe CMD INSTALL transomics2cytoscape_1.4.0.zip && rm transomics2cytoscape_1.4.0.tar.gz transomics2cytoscape_1.4.0.zip
###
##############################################################################
##############################################################################


  % Total    % Received % Xferd  Average Speed   Time    Time     Time  Current
                                 Dload  Upload   Total   Spent    Left  Speed

  0     0    0     0    0     0      0      0 --:--:-- --:--:-- --:--:--     0
 35 3363k   35 1182k    0     0  3791k      0 --:--:-- --:--:-- --:--:-- 3790k
100 3363k  100 3363k    0     0  5889k      0 --:--:-- --:--:-- --:--:-- 5890k

install for i386

* installing *source* package 'transomics2cytoscape' ...
** using staged installation
** R
** inst
** byte-compile and prepare package for lazy loading
** help
*** installing help indices
  converting help for package 'transomics2cytoscape'
    finding HTML links ... done
    create3Dnetwork                         html  
    createTransomicEdges                    html  
    ec2reaction                             html  
    installCyApps                           html  
*** copying figures
** building package indices
** installing vignettes
** testing if installed package can be loaded from temporary location
** testing if installed package can be loaded from final location
** testing if installed package keeps a record of temporary installation path

install for x64

* installing *source* package 'transomics2cytoscape' ...
** testing if installed package can be loaded
* MD5 sums
packaged installation of 'transomics2cytoscape' as transomics2cytoscape_1.4.0.zip
* DONE (transomics2cytoscape)
* installing to library 'C:/Users/biocbuild/bbs-3.14-bioc/R/library'
package 'transomics2cytoscape' successfully unpacked and MD5 sums checked