Name | Last modified | Size | Description | |
---|---|---|---|---|
Parent Directory | - | |||
buildbin-summary.dcf | 14-Apr-2022 01:07 | 571 | ||
buildbin-out.txt | 14-Apr-2022 01:07 | 7.0K | ||
checksrc-summary.dcf | 14-Apr-2022 01:07 | 484 | ||
checksrc-out.txt | 14-Apr-2022 01:07 | 4.3K | ||
buildsrc-summary.dcf | 14-Apr-2022 01:07 | 481 | ||
buildsrc-out.txt | 14-Apr-2022 01:07 | 934 | ||
install-summary.dcf | 14-Apr-2022 01:07 | 689 | ||
install-out.txt | 14-Apr-2022 01:07 | 7.9K | ||