Back to Multiple platform build/check report for BioC 3.14
ABCDEFGHIJKLMNOPQR[S]TUVWXYZ

This page was generated on 2022-01-24 13:07:03 -0500 (Mon, 24 Jan 2022).

HostnameOSArch (*)R versionInstalled pkgs
nebbiolo2Linux (Ubuntu 20.04.4 LTS)x86_644.1.2 (2021-11-01) -- "Bird Hippie" 4329
tokay2Windows Server 2012 R2 Standardx644.1.2 (2021-11-01) -- "Bird Hippie" 4080
machv2macOS 10.14.6 Mojavex86_644.1.2 (2021-11-01) -- "Bird Hippie" 4141
Click on any hostname to see more info about the system (e.g. compilers)      (*) as reported by 'uname -p', except on Windows and Mac OS X

INSTALL results for spicyR on tokay2


To the developers/maintainers of the spicyR package:
- Please allow up to 24 hours (and sometimes 48 hours) for your latest push to git@git.bioconductor.org:packages/spicyR.git to
reflect on this report. See How and When does the builder pull? When will my changes propagate? here for more information.
- Make sure to use the following settings in order to reproduce any error or warning you see on this page.

raw results

Package 1856/2083HostnameOS / ArchINSTALLBUILDCHECKBUILD BIN
spicyR 1.6.0  (landing page)
Ellis Patrick
Snapshot Date: 2022-01-23 01:55:04 -0500 (Sun, 23 Jan 2022)
git_url: https://git.bioconductor.org/packages/spicyR
git_branch: RELEASE_3_14
git_last_commit: ef4f5a5
git_last_commit_date: 2021-10-26 12:58:17 -0500 (Tue, 26 Oct 2021)
nebbiolo2Linux (Ubuntu 20.04.4 LTS) / x86_64  OK    OK    OK  UNNEEDED, same version is already published
tokay2Windows Server 2012 R2 Standard / x64  OK    OK    OK    OK  UNNEEDED, same version is already published
machv2macOS 10.14.6 Mojave / x86_64  OK    OK    OK    OK  UNNEEDED, same version is already published

Summary

Package: spicyR
Version: 1.6.0
Command: C:\cygwin\bin\curl.exe -O http://155.52.207.166/BBS/3.14/bioc/src/contrib/spicyR_1.6.0.tar.gz && rm -rf spicyR.buildbin-libdir && mkdir spicyR.buildbin-libdir && C:\Users\biocbuild\bbs-3.14-bioc\R\bin\R.exe CMD INSTALL --merge-multiarch --build --library=spicyR.buildbin-libdir spicyR_1.6.0.tar.gz && C:\Users\biocbuild\bbs-3.14-bioc\R\bin\R.exe CMD INSTALL spicyR_1.6.0.zip && rm spicyR_1.6.0.tar.gz spicyR_1.6.0.zip
StartedAt: 2022-01-23 05:49:42 -0500 (Sun, 23 Jan 2022)
EndedAt: 2022-01-23 05:51:42 -0500 (Sun, 23 Jan 2022)
EllapsedTime: 120.7 seconds
RetCode: 0
Status:   OK  

Command output

##############################################################################
##############################################################################
###
### Running command:
###
###   C:\cygwin\bin\curl.exe -O http://155.52.207.166/BBS/3.14/bioc/src/contrib/spicyR_1.6.0.tar.gz && rm -rf spicyR.buildbin-libdir && mkdir spicyR.buildbin-libdir && C:\Users\biocbuild\bbs-3.14-bioc\R\bin\R.exe CMD INSTALL --merge-multiarch --build --library=spicyR.buildbin-libdir spicyR_1.6.0.tar.gz && C:\Users\biocbuild\bbs-3.14-bioc\R\bin\R.exe CMD INSTALL spicyR_1.6.0.zip && rm spicyR_1.6.0.tar.gz spicyR_1.6.0.zip
###
##############################################################################
##############################################################################


  % Total    % Received % Xferd  Average Speed   Time    Time     Time  Current
                                 Dload  Upload   Total   Spent    Left  Speed

  0     0    0     0    0     0      0      0 --:--:-- --:--:-- --:--:--     0
100 1647k  100 1647k    0     0  2784k      0 --:--:-- --:--:-- --:--:-- 2787k

install for i386

* installing *source* package 'spicyR' ...
** using staged installation
** R
** data
** inst
** byte-compile and prepare package for lazy loading
** help
*** installing help indices
  converting help for package 'spicyR'
    finding HTML links ... done
    Accessors                               html  
    SegmentedCells                          html  
    as.data.frame.SegmentedCells            html  
    diabetesData                            html  
    getPairwise                             html  
    plot-SegmentedCells                     html  
    show-SegmentedCells                     html  
    signifPlot                              html  
    spicy                                   html  
    spicyTest                               html  
    spicyTestBootstrap                      html  
    topPairs                                html  
** building package indices
** installing vignettes
** testing if installed package can be loaded from temporary location
** testing if installed package can be loaded from final location
** testing if installed package keeps a record of temporary installation path

install for x64

* installing *source* package 'spicyR' ...
** testing if installed package can be loaded
* MD5 sums
packaged installation of 'spicyR' as spicyR_1.6.0.zip
* DONE (spicyR)
* installing to library 'C:/Users/biocbuild/bbs-3.14-bioc/R/library'
package 'spicyR' successfully unpacked and MD5 sums checked