Name | Last modified | Size | Description | |
---|---|---|---|---|
Parent Directory | - | |||
buildbin-out.txt | 14-Apr-2022 01:07 | 2.0K | ||
buildbin-summary.dcf | 14-Apr-2022 01:07 | 557 | ||
buildsrc-out.txt | 14-Apr-2022 01:07 | 920 | ||
buildsrc-summary.dcf | 14-Apr-2022 01:07 | 470 | ||
checksrc-out.txt | 14-Apr-2022 01:07 | 6.4K | ||
checksrc-summary.dcf | 14-Apr-2022 01:07 | 474 | ||
install-out.txt | 14-Apr-2022 01:07 | 2.7K | ||
install-summary.dcf | 14-Apr-2022 01:07 | 667 | ||