Back to Multiple platform build/check report for BioC 3.14
ABCDEFGHIJKLMNOPQR[S]TUVWXYZ

This page was generated on 2022-01-19 13:07:22 -0500 (Wed, 19 Jan 2022).

HostnameOSArch (*)R versionInstalled pkgs
nebbiolo2Linux (Ubuntu 20.04.4 LTS)x86_644.1.2 (2021-11-01) -- "Bird Hippie" 4328
tokay2Windows Server 2012 R2 Standardx644.1.2 (2021-11-01) -- "Bird Hippie" 4077
machv2macOS 10.14.6 Mojavex86_644.1.2 (2021-11-01) -- "Bird Hippie" 4138
Click on any hostname to see more info about the system (e.g. compilers)      (*) as reported by 'uname -p', except on Windows and Mac OS X

INSTALL results for semisup on tokay2


To the developers/maintainers of the semisup package:
- Please allow up to 24 hours (and sometimes 48 hours) for your latest push to git@git.bioconductor.org:packages/semisup.git to
reflect on this report. See How and When does the builder pull? When will my changes propagate? here for more information.
- Make sure to use the following settings in order to reproduce any error or warning you see on this page.

raw results

Package 1759/2083HostnameOS / ArchINSTALLBUILDCHECKBUILD BIN
semisup 1.18.0  (landing page)
Armin Rauschenberger
Snapshot Date: 2022-01-18 01:55:07 -0500 (Tue, 18 Jan 2022)
git_url: https://git.bioconductor.org/packages/semisup
git_branch: RELEASE_3_14
git_last_commit: 9cca670
git_last_commit_date: 2021-10-26 12:34:45 -0500 (Tue, 26 Oct 2021)
nebbiolo2Linux (Ubuntu 20.04.4 LTS) / x86_64  OK    OK    OK  UNNEEDED, same version is already published
tokay2Windows Server 2012 R2 Standard / x64  OK    OK    OK    OK  UNNEEDED, same version is already published
machv2macOS 10.14.6 Mojave / x86_64  OK    OK    OK    OK  UNNEEDED, same version is already published

Summary

Package: semisup
Version: 1.18.0
Command: C:\cygwin\bin\curl.exe -O http://155.52.207.166/BBS/3.14/bioc/src/contrib/semisup_1.18.0.tar.gz && rm -rf semisup.buildbin-libdir && mkdir semisup.buildbin-libdir && C:\Users\biocbuild\bbs-3.14-bioc\R\bin\R.exe CMD INSTALL --merge-multiarch --build --library=semisup.buildbin-libdir semisup_1.18.0.tar.gz && C:\Users\biocbuild\bbs-3.14-bioc\R\bin\R.exe CMD INSTALL semisup_1.18.0.zip && rm semisup_1.18.0.tar.gz semisup_1.18.0.zip
StartedAt: 2022-01-18 05:41:44 -0500 (Tue, 18 Jan 2022)
EndedAt: 2022-01-18 05:42:06 -0500 (Tue, 18 Jan 2022)
EllapsedTime: 21.1 seconds
RetCode: 0
Status:   OK  

Command output

##############################################################################
##############################################################################
###
### Running command:
###
###   C:\cygwin\bin\curl.exe -O http://155.52.207.166/BBS/3.14/bioc/src/contrib/semisup_1.18.0.tar.gz && rm -rf semisup.buildbin-libdir && mkdir semisup.buildbin-libdir && C:\Users\biocbuild\bbs-3.14-bioc\R\bin\R.exe CMD INSTALL --merge-multiarch --build --library=semisup.buildbin-libdir semisup_1.18.0.tar.gz && C:\Users\biocbuild\bbs-3.14-bioc\R\bin\R.exe CMD INSTALL semisup_1.18.0.zip && rm semisup_1.18.0.tar.gz semisup_1.18.0.zip
###
##############################################################################
##############################################################################


  % Total    % Received % Xferd  Average Speed   Time    Time     Time  Current
                                 Dload  Upload   Total   Spent    Left  Speed

  0     0    0     0    0     0      0      0 --:--:-- --:--:-- --:--:--     0
100 55957  100 55957    0     0   513k      0 --:--:-- --:--:-- --:--:--  520k

install for i386

* installing *source* package 'semisup' ...
** using staged installation
** R
** data
*** moving datasets to lazyload DB
** inst
** byte-compile and prepare package for lazy loading
** help
*** installing help indices
  converting help for package 'semisup'
    finding HTML links ... done
    arguments                               html  
    debug                                   html  
    estim.nbinom                            html  
    fit.nbinom                              html  
    fit.norm                                html  
    fit.wrap                                html  
    fit.zinb                                html  
    internal                                html  
    mixtura                                 html  
    resam.lrts                              html  
    scrutor                                 html  
    semisup-package                         html  
    table                                   html  
    toydata                                 html  
** building package indices
** installing vignettes
** testing if installed package can be loaded from temporary location
** testing if installed package can be loaded from final location
** testing if installed package keeps a record of temporary installation path

install for x64

* installing *source* package 'semisup' ...
** testing if installed package can be loaded
* MD5 sums
packaged installation of 'semisup' as semisup_1.18.0.zip
* DONE (semisup)
* installing to library 'C:/Users/biocbuild/bbs-3.14-bioc/R/library'
package 'semisup' successfully unpacked and MD5 sums checked